BEGIN:VCALENDAR
VERSION:2.0
PRODID:-//IFK Malmö Fotboll - ECPv6.15.20//NONSGML v1.0//EN
CALSCALE:GREGORIAN
METHOD:PUBLISH
X-ORIGINAL-URL:https://www.ifkmalmo.se
X-WR-CALDESC:Händelser för IFK Malmö Fotboll
REFRESH-INTERVAL;VALUE=DURATION:PT1H
X-Robots-Tag:noindex
X-PUBLISHED-TTL:PT1H
BEGIN:VTIMEZONE
TZID:Europe/Stockholm
BEGIN:DAYLIGHT
TZOFFSETFROM:+0100
TZOFFSETTO:+0200
TZNAME:CEST
DTSTART:20230326T010000
END:DAYLIGHT
BEGIN:STANDARD
TZOFFSETFROM:+0200
TZOFFSETTO:+0100
TZNAME:CET
DTSTART:20231029T010000
END:STANDARD
BEGIN:DAYLIGHT
TZOFFSETFROM:+0100
TZOFFSETTO:+0200
TZNAME:CEST
DTSTART:20240331T010000
END:DAYLIGHT
BEGIN:STANDARD
TZOFFSETFROM:+0200
TZOFFSETTO:+0100
TZNAME:CET
DTSTART:20241027T010000
END:STANDARD
BEGIN:DAYLIGHT
TZOFFSETFROM:+0100
TZOFFSETTO:+0200
TZNAME:CEST
DTSTART:20250330T010000
END:DAYLIGHT
BEGIN:STANDARD
TZOFFSETFROM:+0200
TZOFFSETTO:+0100
TZNAME:CET
DTSTART:20251026T010000
END:STANDARD
END:VTIMEZONE
BEGIN:VEVENT
DTSTART;TZID=Europe/Stockholm:20240903T183000
DTEND;TZID=Europe/Stockholm:20240903T200000
DTSTAMP:20260421T033202
CREATED:20240828T154443Z
LAST-MODIFIED:20240828T154443Z
UID:85492-1725388200-1725393600@www.ifkmalmo.se
SUMMARY:Träning | Herrar
DESCRIPTION:
URL:https://www.ifkmalmo.se/event/traning-herrar-647/
LOCATION:Heleneholms IP\, Ystadvägen 23 B\, Malmö\, 214 45\, Sverige
CATEGORIES:Träning
ORGANIZER;CN="IFK Malm%C3%B6 Fotboll":MAILTO:info@ifkmalmo.se
END:VEVENT
BEGIN:VEVENT
DTSTART;TZID=Europe/Stockholm:20240905T183000
DTEND;TZID=Europe/Stockholm:20240905T200000
DTSTAMP:20260421T033202
CREATED:20240828T154524Z
LAST-MODIFIED:20240828T154524Z
UID:85495-1725561000-1725566400@www.ifkmalmo.se
SUMMARY:Träning | Herrar
DESCRIPTION:
URL:https://www.ifkmalmo.se/event/traning-herrar-648/
LOCATION:Heleneholms IP\, Ystadvägen 23 B\, Malmö\, 214 45\, Sverige
CATEGORIES:Träning
ORGANIZER;CN="IFK Malm%C3%B6 Fotboll":MAILTO:info@ifkmalmo.se
END:VEVENT
BEGIN:VEVENT
DTSTART;TZID=Europe/Stockholm:20240907T120000
DTEND;TZID=Europe/Stockholm:20240907T133000
DTSTAMP:20260421T033202
CREATED:20240901T190815Z
LAST-MODIFIED:20240901T190815Z
UID:85513-1725710400-1725715800@www.ifkmalmo.se
SUMMARY:Träning | Herrar
DESCRIPTION:
URL:https://www.ifkmalmo.se/event/traning-herrar-640/
LOCATION:Heleneholms IP\, Ystadvägen 23 B\, Malmö\, 214 45\, Sverige
CATEGORIES:Träning
ORGANIZER;CN="IFK Malm%C3%B6 Fotboll":MAILTO:info@ifkmalmo.se
END:VEVENT
BEGIN:VEVENT
DTSTART;TZID=Europe/Stockholm:20240909T180000
DTEND;TZID=Europe/Stockholm:20240909T193000
DTSTAMP:20260421T033202
CREATED:20240907T163632Z
LAST-MODIFIED:20240907T163632Z
UID:85539-1725904800-1725910200@www.ifkmalmo.se
SUMMARY:Träning | Herrar
DESCRIPTION:
URL:https://www.ifkmalmo.se/event/traning-herrar-649/
LOCATION:Heleneholms IP\, Ystadvägen 23 B\, Malmö\, 214 45\, Sverige
CATEGORIES:Träning
ORGANIZER;CN="IFK Malm%C3%B6 Fotboll":MAILTO:info@ifkmalmo.se
END:VEVENT
BEGIN:VEVENT
DTSTART;TZID=Europe/Stockholm:20240910T180000
DTEND;TZID=Europe/Stockholm:20240910T193000
DTSTAMP:20260421T033202
CREATED:20240907T163715Z
LAST-MODIFIED:20240907T163715Z
UID:85542-1725991200-1725996600@www.ifkmalmo.se
SUMMARY:Träning | Herrar
DESCRIPTION:
URL:https://www.ifkmalmo.se/event/traning-herrar-650/
LOCATION:Heleneholms IP\, Ystadvägen 23 B\, Malmö\, 214 45\, Sverige
CATEGORIES:Träning
ORGANIZER;CN="IFK Malm%C3%B6 Fotboll":MAILTO:info@ifkmalmo.se
END:VEVENT
BEGIN:VEVENT
DTSTART;TZID=Europe/Stockholm:20240912T180000
DTEND;TZID=Europe/Stockholm:20240912T193000
DTSTAMP:20260421T033202
CREATED:20240907T164239Z
LAST-MODIFIED:20240907T164239Z
UID:85545-1726164000-1726169400@www.ifkmalmo.se
SUMMARY:Träning | Herrar
DESCRIPTION:
URL:https://www.ifkmalmo.se/event/traning-herrar-651/
LOCATION:Heleneholms IP\, Ystadvägen 23 B\, Malmö\, 214 45\, Sverige
CATEGORIES:Träning
ORGANIZER;CN="IFK Malm%C3%B6 Fotboll":MAILTO:info@ifkmalmo.se
END:VEVENT
BEGIN:VEVENT
DTSTART;TZID=Europe/Stockholm:20240917T180000
DTEND;TZID=Europe/Stockholm:20240917T193000
DTSTAMP:20260421T033202
CREATED:20240913T000257Z
LAST-MODIFIED:20240913T000257Z
UID:85582-1726596000-1726601400@www.ifkmalmo.se
SUMMARY:Träning | Herrar
DESCRIPTION:
URL:https://www.ifkmalmo.se/event/traning-herrar-653/
LOCATION:Heleneholms IP\, Ystadvägen 23 B\, Malmö\, 214 45\, Sverige
CATEGORIES:Träning
ORGANIZER;CN="IFK Malm%C3%B6 Fotboll":MAILTO:info@ifkmalmo.se
END:VEVENT
BEGIN:VEVENT
DTSTART;TZID=Europe/Stockholm:20240918T180000
DTEND;TZID=Europe/Stockholm:20240918T193000
DTSTAMP:20260421T033202
CREATED:20240913T000423Z
LAST-MODIFIED:20240913T000423Z
UID:85585-1726682400-1726687800@www.ifkmalmo.se
SUMMARY:Träning | Herrar
DESCRIPTION:
URL:https://www.ifkmalmo.se/event/traning-herrar-654/
LOCATION:Heleneholms IP\, Ystadvägen 23 B\, Malmö\, 214 45\, Sverige
CATEGORIES:Träning
ORGANIZER;CN="IFK Malm%C3%B6 Fotboll":MAILTO:info@ifkmalmo.se
END:VEVENT
BEGIN:VEVENT
DTSTART;TZID=Europe/Stockholm:20240923T173000
DTEND;TZID=Europe/Stockholm:20240923T190000
DTSTAMP:20260421T033202
CREATED:20240913T000522Z
LAST-MODIFIED:20240913T000626Z
UID:85588-1727112600-1727118000@www.ifkmalmo.se
SUMMARY:Träning | Herrar
DESCRIPTION:
URL:https://www.ifkmalmo.se/event/traning-herrar-655/
LOCATION:Heleneholms IP\, Ystadvägen 23 B\, Malmö\, 214 45\, Sverige
CATEGORIES:Träning
ORGANIZER;CN="IFK Malm%C3%B6 Fotboll":MAILTO:info@ifkmalmo.se
END:VEVENT
BEGIN:VEVENT
DTSTART;TZID=Europe/Stockholm:20240924T173000
DTEND;TZID=Europe/Stockholm:20240924T190000
DTSTAMP:20260421T033202
CREATED:20240913T000555Z
LAST-MODIFIED:20240913T000728Z
UID:85591-1727199000-1727204400@www.ifkmalmo.se
SUMMARY:Träning | Herrar
DESCRIPTION:
URL:https://www.ifkmalmo.se/event/traning-herrar-656/
LOCATION:Heleneholms IP\, Ystadvägen 23 B\, Malmö\, 214 45\, Sverige
CATEGORIES:Träning
ORGANIZER;CN="IFK Malm%C3%B6 Fotboll":MAILTO:info@ifkmalmo.se
END:VEVENT
BEGIN:VEVENT
DTSTART;TZID=Europe/Stockholm:20240926T190000
DTEND;TZID=Europe/Stockholm:20240926T203000
DTSTAMP:20260421T033202
CREATED:20240913T000937Z
LAST-MODIFIED:20240926T161448Z
UID:85596-1727377200-1727382600@www.ifkmalmo.se
SUMMARY:Träning | Herrar
DESCRIPTION:
URL:https://www.ifkmalmo.se/event/traning-herrar-657/
LOCATION:Västra Ingelstads IP\, konstgräs\, Lillsjövägen 7\, Vellinge\, 235 41\, Sweden
CATEGORIES:Träning
ORGANIZER;CN="IFK Malm%C3%B6 Fotboll":MAILTO:info@ifkmalmo.se
END:VEVENT
BEGIN:VEVENT
DTSTART;TZID=Europe/Stockholm:20240930T171500
DTEND;TZID=Europe/Stockholm:20240930T184500
DTSTAMP:20260421T033202
CREATED:20240919T164926Z
LAST-MODIFIED:20240919T164926Z
UID:85635-1727716500-1727721900@www.ifkmalmo.se
SUMMARY:Träning | Herrar
DESCRIPTION:
URL:https://www.ifkmalmo.se/event/traning-herrar-652/
LOCATION:Heleneholms IP\, Ystadvägen 23 B\, Malmö\, 214 45\, Sverige
CATEGORIES:Träning
ORGANIZER;CN="IFK Malm%C3%B6 Fotboll":MAILTO:info@ifkmalmo.se
END:VEVENT
END:VCALENDAR