BEGIN:VCALENDAR
VERSION:2.0
PRODID:-//IFK Malmö Fotboll - ECPv6.15.20//NONSGML v1.0//EN
CALSCALE:GREGORIAN
METHOD:PUBLISH
X-ORIGINAL-URL:https://www.ifkmalmo.se
X-WR-CALDESC:Händelser för IFK Malmö Fotboll
REFRESH-INTERVAL;VALUE=DURATION:PT1H
X-Robots-Tag:noindex
X-PUBLISHED-TTL:PT1H
BEGIN:VTIMEZONE
TZID:Europe/Stockholm
BEGIN:DAYLIGHT
TZOFFSETFROM:+0100
TZOFFSETTO:+0200
TZNAME:CEST
DTSTART:20230326T010000
END:DAYLIGHT
BEGIN:STANDARD
TZOFFSETFROM:+0200
TZOFFSETTO:+0100
TZNAME:CET
DTSTART:20231029T010000
END:STANDARD
BEGIN:DAYLIGHT
TZOFFSETFROM:+0100
TZOFFSETTO:+0200
TZNAME:CEST
DTSTART:20240331T010000
END:DAYLIGHT
BEGIN:STANDARD
TZOFFSETFROM:+0200
TZOFFSETTO:+0100
TZNAME:CET
DTSTART:20241027T010000
END:STANDARD
BEGIN:DAYLIGHT
TZOFFSETFROM:+0100
TZOFFSETTO:+0200
TZNAME:CEST
DTSTART:20250330T010000
END:DAYLIGHT
BEGIN:STANDARD
TZOFFSETFROM:+0200
TZOFFSETTO:+0100
TZNAME:CET
DTSTART:20251026T010000
END:STANDARD
END:VTIMEZONE
BEGIN:VEVENT
DTSTART;TZID=Europe/Stockholm:20241119T200000
DTEND;TZID=Europe/Stockholm:20241119T213000
DTSTAMP:20260419T190240
CREATED:20241104T220145Z
LAST-MODIFIED:20241104T220145Z
UID:85809-1732046400-1732051800@www.ifkmalmo.se
SUMMARY:Träning | Herrar
DESCRIPTION:
URL:https://www.ifkmalmo.se/event/traning-herrar-661/
LOCATION:Heleneholms IP\, konstgräs 2\, Ystadvägen 23 B\, Malmö\, 214 45\, Sverige
CATEGORIES:Träning
ORGANIZER;CN="IFK Malm%C3%B6 Fotboll":MAILTO:info@ifkmalmo.se
END:VEVENT
END:VCALENDAR